BEGIN:VCALENDAR
VERSION:2.0
PRODID:-//California Center for International Trade Development - ECPv6.15.17.1//NONSGML v1.0//EN
CALSCALE:GREGORIAN
METHOD:PUBLISH
X-ORIGINAL-URL:https://calcitd.com
X-WR-CALDESC:Events for California Center for International Trade Development
REFRESH-INTERVAL;VALUE=DURATION:PT1H
X-Robots-Tag:noindex
X-PUBLISHED-TTL:PT1H
BEGIN:VTIMEZONE
TZID:America/Los_Angeles
BEGIN:DAYLIGHT
TZOFFSETFROM:-0800
TZOFFSETTO:-0700
TZNAME:PDT
DTSTART:20240310T100000
END:DAYLIGHT
BEGIN:STANDARD
TZOFFSETFROM:-0700
TZOFFSETTO:-0800
TZNAME:PST
DTSTART:20241103T090000
END:STANDARD
BEGIN:DAYLIGHT
TZOFFSETFROM:-0800
TZOFFSETTO:-0700
TZNAME:PDT
DTSTART:20250309T100000
END:DAYLIGHT
BEGIN:STANDARD
TZOFFSETFROM:-0700
TZOFFSETTO:-0800
TZNAME:PST
DTSTART:20251102T090000
END:STANDARD
BEGIN:DAYLIGHT
TZOFFSETFROM:-0800
TZOFFSETTO:-0700
TZNAME:PDT
DTSTART:20260308T100000
END:DAYLIGHT
BEGIN:STANDARD
TZOFFSETFROM:-0700
TZOFFSETTO:-0800
TZNAME:PST
DTSTART:20261101T090000
END:STANDARD
END:VTIMEZONE
BEGIN:VEVENT
DTSTART;TZID=America/Los_Angeles:20250813T080000
DTEND;TZID=America/Los_Angeles:20250822T120000
DTSTAMP:20260420T023156
CREATED:20250527T184304Z
LAST-MODIFIED:20250617T214311Z
UID:10000079-1755072000-1755864000@calcitd.com
SUMMARY:Taller en Línea Export Launchpad | Agosto de 2025
DESCRIPTION:INSCRIPCIÓN\nDESCRIPCIÓN GENERAL: \nEl Taller en Línea Export Launchpad es una serie de capacitación virtual dinámica\, diseñada para brindar a los propietarios de pequeñas empresas y emprendedores los conocimientos y herramientas esenciales para explorar los mercados globales. Este programa interactivo de 2 semanas se lleva a cabo dos veces por semana\, con sesiones de cuatro horas\, y ofrece una guía paso a paso del proceso de exportación\, desde la evaluación de oportunidades internacionales hasta la identificación de compradores globales calificados. \nImpartido por un instructor con más de 20 años de experiencia en comercio internacional\, este curso en línea combina enseñanza experta con ejercicios en tiempo real para ayudarle a desarrollar una estrategia de exportación práctica y aplicable\, adaptada a su negocio. \nPROGAM HIGHLIGHTS: \n\nInteractive Online Format: Live virtual instruction with hands-on learning activities and expert feedback.\nExport Plan Development: Create a customized export plan to guide your entry into international markets.\nPractical Tools & Templates: Gain access to export resources\, checklists\, and strategies you can use immediately.\nPeer Networking: Connect with fellow business owners and trade professionals from across California.\n\nPUNTOS DESTACADOS DEL PROGRAMA: \nEsta capacitación es ideal para propietarios de pequeñas empresas\, gerentes y emprendedores establecidos en EE. UU.\, especialmente aquellos de comunidades desatendidas o rurales\, que son nuevos en la exportación o que buscan expandir su alcance global. Los participantes deben estar listos para participar activamente\, aprender y aplicar lo aprendido para hacer crecer su negocio a nivel internacional. \nOBJETIVOS CLAVE: \n\nDesarrollar la Preparación para Exportar: Aprenda los fundamentos de la exportación y evalúe el potencial global de su producto.\nDesarrollar Habilidades Clave: Adquiera confianza en cumplimiento de exportaciones\, precios\, logística e investigación de mercados.\nCrear un Plan de Exportación Real: Termine con un plan personalizado y pasos concretos para ingresar a nuevos mercados.\nAcceder a Recursos Globales: Conéctese con organizaciones de apoyo comercial y programas de asistencia para exportación.\n\nDETALLES DEL EVENTO: \n\nFormato: En línea en vivo por Zoom\nHorario: 2 sesiones por semana durante 2 semanas (4 horas por sesión)\nFechas del Evento: 13\, 15\, 20 y 22 de agosto de 2025\nCuota de Inscripción: $25 por persona\nCupo: Limitado para asegurar la participación activa y el apoyo personalizado.\nMateriales: Los materiales del curso se enviarán por correo a quienes se hayan registrado al menos una semana antes del inicio de la primera clase.\n\nREQUISITOS DE ELEGIBILIDAD: \n\nDebe ser una pequeña empresa con sede en California\, operar desde hace al menos un año y cumplir con los estándares de tamaño establecidos por la SBA de EE. UU.\nTener la intención de exportar bienes o servicios de EE. UU. con al menos un 51% de contenido estadounidense.\n\nPROGRAM PARTNERS: \n\nCalifornia Center for International Trade Development\nU.S. Commercial Service\nThe Port of Hueneme\nSpecialty Crop Trade Council\nCentral California District Export Council\nValley Community SBDC\nCalifornia Governors Office of Business and Economic Development (GO-Biz)\n\nINSCRIPCIÓN
URL:https://calcitd.com/calendar/taller-en-linea-export-launchpad-agosto-de-2025/
CATEGORIES:Export Training
ATTACH;FMTTYPE=image/png:https://calcitd.com/wp-content/uploads/2025/05/Online-Export-Launchpad-BannerAug-1.png
ORGANIZER;CN="California Center for International Trade Development":MAILTO:frank.nunez@scccd.edu
END:VEVENT
END:VCALENDAR