BEGIN:VCALENDAR
VERSION:2.0
PRODID:-//California Center for International Trade Development - ECPv6.15.17.1//NONSGML v1.0//EN
CALSCALE:GREGORIAN
METHOD:PUBLISH
X-ORIGINAL-URL:https://calcitd.com
X-WR-CALDESC:Events for California Center for International Trade Development
REFRESH-INTERVAL;VALUE=DURATION:PT1H
X-Robots-Tag:noindex
X-PUBLISHED-TTL:PT1H
BEGIN:VTIMEZONE
TZID:America/Los_Angeles
BEGIN:DAYLIGHT
TZOFFSETFROM:-0800
TZOFFSETTO:-0700
TZNAME:PDT
DTSTART:20240310T100000
END:DAYLIGHT
BEGIN:STANDARD
TZOFFSETFROM:-0700
TZOFFSETTO:-0800
TZNAME:PST
DTSTART:20241103T090000
END:STANDARD
BEGIN:DAYLIGHT
TZOFFSETFROM:-0800
TZOFFSETTO:-0700
TZNAME:PDT
DTSTART:20250309T100000
END:DAYLIGHT
BEGIN:STANDARD
TZOFFSETFROM:-0700
TZOFFSETTO:-0800
TZNAME:PST
DTSTART:20251102T090000
END:STANDARD
BEGIN:DAYLIGHT
TZOFFSETFROM:-0800
TZOFFSETTO:-0700
TZNAME:PDT
DTSTART:20260308T100000
END:DAYLIGHT
BEGIN:STANDARD
TZOFFSETFROM:-0700
TZOFFSETTO:-0800
TZNAME:PST
DTSTART:20261101T090000
END:STANDARD
END:VTIMEZONE
BEGIN:VEVENT
DTSTART;TZID=America/Los_Angeles:20251105T080000
DTEND;TZID=America/Los_Angeles:20251113T120000
DTSTAMP:20260420T021609
CREATED:20250908T214810Z
LAST-MODIFIED:20250908T215143Z
UID:10000080-1762329600-1763035200@calcitd.com
SUMMARY:Online Export Launchpad Workshop | Nov 2025
DESCRIPTION:REGISTRATION\nOVERVIEW: \nThe Export Launchpad Online Workshop is a dynamic virtual training series designed to equip small business owners and entrepreneurs with the essential knowledge and tools to explore global markets. This interactive 2-week program meets twice a week for four hours per session and offers step-by-step guidance through the export process—from evaluating international opportunities to identifying qualified global buyers. \nLed by a trainer with over 30 years of international trade experience\, this online course combines expert instruction with real-time exercises to help you build a practical\, actionable export strategy tailored to your business. \nPROGAM HIGHLIGHTS: \n\nInteractive Online Format: Live virtual instruction with hands-on learning activities and expert feedback.\nExport Plan Development: Create a customized export plan to guide your entry into international markets.\nPractical Tools & Templates: Gain access to export resources\, checklists\, and strategies you can use immediately.\nPeer Networking: Connect with fellow business owners and trade professionals from across California.\n\nWHO SHOULD ATTEND: \nThis training is ideal for U.S.-based small business owners\, managers\, and entrepreneurs—especially those from underserved or rural communities—who are new to exporting or looking to expand their global reach. Participants should be ready to engage\, learn\, and apply what they’ve learned to grow their business internationally. \nKEY OBJECTIVES: \n\nBuild Export Readiness: Learn the fundamentals of exporting and assess your product’s global potential.\nDevelop Core Skills: Gain confidence in export compliance\, pricing\, logistics\, and market research.\nCreate a Real Export Plan: Walk away with a personalized plan and defined next steps for market entry.\nAccess Global Resources: Get connected to trade support organizations and export assistance programs.\n\nEVENT DETAILS: \n\nFormat: Live online via Zoom\nSchedule: 2 session per week for 2 weeks (4 hours per session)\nEvent Dates: Nov 5\, 6\, 12\, 13\, 2025\nRegistration Fee: $25 per person\nCapacity: Limited to ensure active participation and personalized support.\nMaterials: Class materials will be mailed to those registered at least one week prior to first class start.\n\nELIGIBILITY: \n\nMust be a small business based in California\, operational for at least one year\, and meet U.S. SBA size standards.\nIntent to export U.S. goods or services with at least 51% U.S. content.\n\nPROGRAM PARTNERS: \n\nCalifornia Center for International Trade Development\nU.S. Commercial Service\nThe Port of Hueneme\nSpecialty Crop Trade Council\nCentral California District Export Council\nValley Community SBDC\nCalifornia Governors Office of Business and Economic Development (GO-Biz)\n\nREGISTRATION
URL:https://calcitd.com/calendar/online-export-launchpad-workshop-nov-2025/
CATEGORIES:Export Training
ATTACH;FMTTYPE=image/png:https://calcitd.com/wp-content/uploads/2025/09/Online-Export-Launchpad-BannerNov.png
ORGANIZER;CN="California Center for International Trade Development":MAILTO:frank.nunez@scccd.edu
END:VEVENT
END:VCALENDAR